BEGIN:VCALENDAR
VERSION:2.0
PRODID:-//Atemtherapie Essen - Sabine Linneweber - ECPv5.0.2//NONSGML v1.0//EN
CALSCALE:GREGORIAN
METHOD:PUBLISH
X-WR-CALNAME:Atemtherapie Essen - Sabine Linneweber
X-ORIGINAL-URL:https://www.atemtherapie-essen.de
X-WR-CALDESC:Veranstaltungen im Atemtherapie Essen - Sabine Linneweber
BEGIN:VTIMEZONE
TZID:UTC
BEGIN:STANDARD
TZOFFSETFROM:+0000
TZOFFSETTO:+0000
TZNAME:UTC
DTSTART:20160101T000000
END:STANDARD
END:VTIMEZONE
BEGIN:VEVENT
DTSTART;TZID=UTC:20161113T110000
DTEND;TZID=UTC:20161113T170000
DTSTAMP:20260421T121858
CREATED:20151031T145800Z
LAST-MODIFIED:20161105T123012Z
UID:504-1479034800-1479056400@www.atemtherapie-essen.de
SUMMARY:Work life balance
DESCRIPTION:Ein Seminarangebot der Gleichstellungsstelle Essen \n  \nIn unserer temporeichen Welt ist es wichtig einen Ausgleich zu finden. Die Anforderungen und der Zeitdruck stellen eine Belastung dar und kosten Energie – oft mehr\, als wir zur Verfügung haben. \nAn diesem Tag können Sie Ihren Akku wieder aufladen und auftanken. Gönnen Sie sich eine Atempause\, in der Körper und Geist zur Ruhe kommen und Sie wieder Kraft schöpfen können. \nFlyer zur Veranstaltung: gleichstellungsstelle-nov2016 \n
URL:https://www.atemtherapie-essen.de/workshop/work-life-balance/
LOCATION:Unbenannter Veranstaltungsort\, Trappenbergstr. 7\, 45134 Essen
CATEGORIES:Achtsamkeit,Frauen,Gruppen,Workshop
END:VEVENT
END:VCALENDAR