BEGIN:VCALENDAR
VERSION:2.0
PRODID:-//Atemtherapie Essen - Sabine Linneweber - ECPv5.0.2//NONSGML v1.0//EN
CALSCALE:GREGORIAN
METHOD:PUBLISH
X-WR-CALNAME:Atemtherapie Essen - Sabine Linneweber
X-ORIGINAL-URL:https://www.atemtherapie-essen.de
X-WR-CALDESC:Veranstaltungen im Atemtherapie Essen - Sabine Linneweber
BEGIN:VTIMEZONE
TZID:UTC
BEGIN:STANDARD
TZOFFSETFROM:+0000
TZOFFSETTO:+0000
TZNAME:UTC
DTSTART:20160101T000000
END:STANDARD
END:VTIMEZONE
BEGIN:VEVENT
DTSTART;TZID=UTC:20161118T190000
DTEND;TZID=UTC:20161118T210000
DTSTAMP:20260421T122255
CREATED:20161105T123733Z
LAST-MODIFIED:20161105T123733Z
UID:549-1479495600-1479502800@www.atemtherapie-essen.de
SUMMARY:Informationsabend zum Urlaubsseminar in Griechenland
DESCRIPTION:
URL:https://www.atemtherapie-essen.de/workshop/informationsabend-zum-urlaubsseminar-in-griechenland/
END:VEVENT
END:VCALENDAR