BEGIN:VCALENDAR
VERSION:2.0
PRODID:-//Atemtherapie Essen - Sabine Linneweber - ECPv5.0.2//NONSGML v1.0//EN
CALSCALE:GREGORIAN
METHOD:PUBLISH
X-WR-CALNAME:Atemtherapie Essen - Sabine Linneweber
X-ORIGINAL-URL:https://www.atemtherapie-essen.de
X-WR-CALDESC:Veranstaltungen im Atemtherapie Essen - Sabine Linneweber
BEGIN:VTIMEZONE
TZID:Europe/Berlin
BEGIN:DAYLIGHT
TZOFFSETFROM:+0100
TZOFFSETTO:+0200
TZNAME:CEST
DTSTART:20220327T010000
END:DAYLIGHT
BEGIN:STANDARD
TZOFFSETFROM:+0200
TZOFFSETTO:+0100
TZNAME:CET
DTSTART:20221030T010000
END:STANDARD
END:VTIMEZONE
BEGIN:VEVENT
DTSTART;TZID=Europe/Berlin:20220206T160000
DTEND;TZID=Europe/Berlin:20220206T173000
DTSTAMP:20260421T030124
CREATED:20190908T125819Z
LAST-MODIFIED:20220124T161452Z
UID:742-1644163200-1644168600@www.atemtherapie-essen.de
SUMMARY:Infoveranstaltung zum Urlaubsseminar 2022
DESCRIPTION:In 2022 biete ich im Frühjahr Urlaubsseminare in Griechenland und im Spätsommer ein Urlaubsseminar in Schweden an. \nWenn du Interesse an den Seminaren hast\, schon reserviert\, oder noch einen Gutschein aus dem vergangenen Jahr hast\, freue ich mich über deine Teilnahme am: Sonntag\, 6. Februar 16.00 Uhr\, im  Beziehungshaus\, Trappenbergstr. 7\, Essen Stadtwald. \nDas Urlaubsseminar in Griechenland steht im Zeichen der griechischen Sonne\, dem Meer\, dem Zirpen der Zikaden in dem abgeschiedenen und geschützten Olivenhain\, in dem wir eine Woche intensiv miteinander schwingen.   \n„Wenn du dich noch tiefer in deinen Körper hineinentspannen willst und deine Weiblichkeit ehren und heilen möchtest\, dich annehmen und lieben lernen willst\, komm in den Kreis der Frauen nach Griechenland!“  \n Seminarort/Unterkunft  \nGriechenland\, Chalkidiki (www.kortiri.gr/de) \nTermine   \n\nMai bis 28. Mai 2022 oder  29. Mai bis 05. Juni 2022\n\nSeminarkosten  \nDas Griechenlandseminar 375 Euro. Bei Anmeldung bis zum 28.2.2022\, 325 Euro. Zuzüglich Unterkunft und Verpflegung (ca. 55 Euro pro Tag). \n  \n  \n
URL:https://www.atemtherapie-essen.de/workshop/infoabend-zum-urlaubsseminar-2020/
LOCATION:Beziehungshaus\,  Trappenbergstraße 7\, Essen\, 45134\, Deutschland
ATTACH;FMTTYPE=image/jpeg:https://www.atemtherapie-essen.de/wp-content/uploads/2019/12/59.jpg
END:VEVENT
END:VCALENDAR