BEGIN:VCALENDAR
VERSION:2.0
PRODID:-//Atemtherapie Essen - Sabine Linneweber - ECPv5.0.2//NONSGML v1.0//EN
CALSCALE:GREGORIAN
METHOD:PUBLISH
X-WR-CALNAME:Atemtherapie Essen - Sabine Linneweber
X-ORIGINAL-URL:https://www.atemtherapie-essen.de
X-WR-CALDESC:Veranstaltungen im Atemtherapie Essen - Sabine Linneweber
BEGIN:VTIMEZONE
TZID:Europe/Berlin
BEGIN:DAYLIGHT
TZOFFSETFROM:+0100
TZOFFSETTO:+0200
TZNAME:CEST
DTSTART:20120325T010000
END:DAYLIGHT
BEGIN:STANDARD
TZOFFSETFROM:+0200
TZOFFSETTO:+0100
TZNAME:CET
DTSTART:20121028T010000
END:STANDARD
END:VTIMEZONE
BEGIN:VEVENT
DTSTART;TZID=Europe/Berlin:20120708T143000
DTEND;TZID=Europe/Berlin:20120708T173059
DTSTAMP:20260423T083826
CREATED:20120525T121833Z
LAST-MODIFIED:20120622T112137Z
UID:53-1341757800-1341768659@www.atemtherapie-essen.de
SUMMARY:Gruppe “Calma”
DESCRIPTION:Die feste Atem-Gruppe “Calma” besteht seit 2007 und trifft sich ungefähr einmal im Monat. \nInhalte der Atemgruppen\nÜbungen aus der Atemtherapie\, Meditationen\, Körper- und Entspannungstechniken uvm.. Daneben steht der persönliche Austausch\, berühren und berührt werden\, das Bewusst machen der eigenen Persönlichkeit und deren Entwicklung. \nDie offene Gruppe findet in unregelmäßigen Abständen statt\, Termine bitte anfragen. \nEine neue feste Gruppe ist für Ende 2012 Anfang 2013 geplant. \n
URL:https://www.atemtherapie-essen.de/workshop/gruppe-calma/
LOCATION:Beziehungshaus\,  Trappenbergstraße 7\, Essen\, 45134\, Deutschland
CATEGORIES:Frauen,Gruppen
ATTACH;FMTTYPE=image/jpeg:https://www.atemtherapie-essen.de/wp-content/uploads/2012/05/atemtherapie-essen-calma7-e1486206679390.jpg
END:VEVENT
END:VCALENDAR