BEGIN:VCALENDAR
VERSION:2.0
PRODID:-//Atemtherapie Essen - Sabine Linneweber - ECPv5.0.2//NONSGML v1.0//EN
CALSCALE:GREGORIAN
METHOD:PUBLISH
X-WR-CALNAME:Atemtherapie Essen - Sabine Linneweber
X-ORIGINAL-URL:https://www.atemtherapie-essen.de
X-WR-CALDESC:Veranstaltungen im Atemtherapie Essen - Sabine Linneweber
BEGIN:VTIMEZONE
TZID:UTC
BEGIN:STANDARD
TZOFFSETFROM:+0000
TZOFFSETTO:+0000
TZNAME:UTC
DTSTART:20160101T000000
END:STANDARD
END:VTIMEZONE
BEGIN:VEVENT
DTSTART;TZID=UTC:20160501T143000
DTEND;TZID=UTC:20160501T180000
DTSTAMP:20260421T134810
CREATED:20160324T091327Z
LAST-MODIFIED:20160324T091327Z
UID:527-1462113000-1462125600@www.atemtherapie-essen.de
SUMMARY:Frauengruppe Calma
DESCRIPTION:Atemgruppe für Frauen \nAtemübungen\, Meditationen\, Bewusstseinsübungen helfen die innere Balance zu finden. \n  \nDaneben steht der persönliche Austausch\, berühren und berührt werden\, das Bewusst machen der eigenen Persönlichkeit und deren Entwicklung. \n  \n
URL:https://www.atemtherapie-essen.de/workshop/frauengruppe-calma/
ATTACH;FMTTYPE=image/jpeg:https://www.atemtherapie-essen.de/wp-content/uploads/2013/01/atemtherapie-essen-gruppe-calma-1-e1486824692573.jpg
END:VEVENT
END:VCALENDAR