BEGIN:VCALENDAR
VERSION:2.0
PRODID:-//Atemtherapie Essen - Sabine Linneweber - ECPv5.0.2//NONSGML v1.0//EN
CALSCALE:GREGORIAN
METHOD:PUBLISH
X-WR-CALNAME:Atemtherapie Essen - Sabine Linneweber
X-ORIGINAL-URL:https://www.atemtherapie-essen.de
X-WR-CALDESC:Veranstaltungen im Atemtherapie Essen - Sabine Linneweber
BEGIN:VTIMEZONE
TZID:Europe/Berlin
BEGIN:DAYLIGHT
TZOFFSETFROM:+0100
TZOFFSETTO:+0200
TZNAME:CEST
DTSTART:20130331T010000
END:DAYLIGHT
BEGIN:STANDARD
TZOFFSETFROM:+0200
TZOFFSETTO:+0100
TZNAME:CET
DTSTART:20131027T010000
END:STANDARD
END:VTIMEZONE
BEGIN:VEVENT
DTSTART;TZID=Europe/Berlin:20130914T140000
DTEND;TZID=Europe/Berlin:20130914T153000
DTSTAMP:20260421T185435
CREATED:20120622T114919Z
LAST-MODIFIED:20130825T102626Z
UID:252-1379167200-1379172600@www.atemtherapie-essen.de
SUMMARY:Frauengesundheitstage Essen 
DESCRIPTION:Im Rahmen der 9. Essener Frauengesundheitstage biete ich an \n\nWorkshop: Atem und Achtsamkeit\n\n  \nOrganisiert durch die Gleichstellungsstelle der Stadt Essen \n  \n
URL:https://www.atemtherapie-essen.de/workshop/frauengesundheitstage-essen/
LOCATION:Kur vor Ort e.V.\, Lührmannstraße 70\, Essen\, 45131\, Deutschland
CATEGORIES:Frauen
END:VEVENT
END:VCALENDAR