BEGIN:VCALENDAR
VERSION:2.0
PRODID:-//Atemtherapie Essen - Sabine Linneweber - ECPv5.0.2//NONSGML v1.0//EN
CALSCALE:GREGORIAN
METHOD:PUBLISH
X-WR-CALNAME:Atemtherapie Essen - Sabine Linneweber
X-ORIGINAL-URL:https://www.atemtherapie-essen.de
X-WR-CALDESC:Veranstaltungen im Atemtherapie Essen - Sabine Linneweber
BEGIN:VTIMEZONE
TZID:Europe/Berlin
BEGIN:DAYLIGHT
TZOFFSETFROM:+0100
TZOFFSETTO:+0200
TZNAME:CEST
DTSTART:20120325T010000
END:DAYLIGHT
BEGIN:STANDARD
TZOFFSETFROM:+0200
TZOFFSETTO:+0100
TZNAME:CET
DTSTART:20121028T010000
END:STANDARD
END:VTIMEZONE
BEGIN:VEVENT
DTSTART;TZID=Europe/Berlin:20121026T193000
DTEND;TZID=Europe/Berlin:20121026T210059
DTSTAMP:20260423T082841
CREATED:20120618T092840Z
LAST-MODIFIED:20120618T093002Z
UID:238-1351279800-1351285259@www.atemtherapie-essen.de
SUMMARY:Chanting & Meditation in Essen
DESCRIPTION:Zum Wochenausklang zur Ruhe kommen\, den Motor runter fahren und in der Stille der Meditation in Kontakt kommen mit dir und deiner Wahrheit. \n \nFühlen was ist. \nChanting\nAus dieser Zentriertheit heraus singen wir meditative Lieder\, Kraftlieder und Chants aus verschiedenen Kulturen\, die uns in unsere Kraft\, Lebensfreude und in Verbundenheit bringen. \nChanten ist als entspanntes\, heilsames Singen für alle geeignet und fördert sowohl die seelische wie auch körperliche Gesundheit. \nWir tönen ohne Leistungsdruck\, lauschen\, bewegen und spüren uns. Wir singen kurze Texte und einfache Melodien\, die leicht erlernbar sind und oft wiederholt werden\, um eine tiefere Wirkung entfalten zu können. \n
URL:https://www.atemtherapie-essen.de/workshop/chanting-meditation-essen-2/
LOCATION:Beziehungshaus\, Trappenbergstraße 7\, Essen\, 45134\, Deutschland
CATEGORIES:Gruppen,Musik
ATTACH;FMTTYPE=image/jpeg:https://www.atemtherapie-essen.de/wp-content/uploads/2012/05/atme-und-laechle.jpg
END:VEVENT
END:VCALENDAR