BEGIN:VCALENDAR
VERSION:2.0
PRODID:-//Atemtherapie Essen - Sabine Linneweber - ECPv5.0.2//NONSGML v1.0//EN
CALSCALE:GREGORIAN
METHOD:PUBLISH
X-WR-CALNAME:Atemtherapie Essen - Sabine Linneweber
X-ORIGINAL-URL:https://www.atemtherapie-essen.de
X-WR-CALDESC:Veranstaltungen im Atemtherapie Essen - Sabine Linneweber
BEGIN:VTIMEZONE
TZID:Europe/Berlin
BEGIN:DAYLIGHT
TZOFFSETFROM:+0100
TZOFFSETTO:+0200
TZNAME:CEST
DTSTART:20250330T010000
END:DAYLIGHT
BEGIN:STANDARD
TZOFFSETFROM:+0200
TZOFFSETTO:+0100
TZNAME:CET
DTSTART:20251026T010000
END:STANDARD
END:VTIMEZONE
BEGIN:VEVENT
DTSTART;TZID=Europe/Berlin:20251221T180000
DTEND;TZID=Europe/Berlin:20251221T200000
DTSTAMP:20260420T152016
CREATED:20251020T080236Z
LAST-MODIFIED:20251020T080236Z
UID:1306-1766340000-1766347200@www.atemtherapie-essen.de
SUMMARY:Chanting
DESCRIPTION:\n\n\n\n\n\nChanting mit Hans Mensink und Marten Meisterernst im Essener Stadtwald\n  \nMantras\, Chants und Kraftlieder aus aller Welt begleitet von Hans Mensink\, dem Begründer der Ganzheitlich Integrativen Atemtherapie. Wir freuen uns schon riesig mit allen Atemfreundinnen und –Freunden und allen\, die Freude am Singen haben\, auf ein kraftvolles und lebendiges Chanting mit Hans und Micha. \nDie Kosten für den Abend betragen 20 Euro. \nWo: Trappenbergstr. 7\, 45134 Essen \nAnmeldungen bitte per Mail bei \nSabine Linneweber \ninfo@atemtherapie-essen.de \n
URL:https://www.atemtherapie-essen.de/workshop/chanting-2-3/
END:VEVENT
END:VCALENDAR