BEGIN:VCALENDAR
VERSION:2.0
PRODID:-//Atemtherapie Essen - Sabine Linneweber - ECPv5.0.2//NONSGML v1.0//EN
CALSCALE:GREGORIAN
METHOD:PUBLISH
X-WR-CALNAME:Atemtherapie Essen - Sabine Linneweber
X-ORIGINAL-URL:https://www.atemtherapie-essen.de
X-WR-CALDESC:Veranstaltungen im Atemtherapie Essen - Sabine Linneweber
BEGIN:VTIMEZONE
TZID:UTC
BEGIN:STANDARD
TZOFFSETFROM:+0000
TZOFFSETTO:+0000
TZNAME:UTC
DTSTART:20180101T000000
END:STANDARD
END:VTIMEZONE
BEGIN:VEVENT
DTSTART;TZID=UTC:20180309T180000
DTEND;TZID=UTC:20180311T150000
DTSTAMP:20260421T085954
CREATED:20171209T131248Z
LAST-MODIFIED:20171209T131738Z
UID:596-1520618400-1520780400@www.atemtherapie-essen.de
SUMMARY:Chakra Breathing
DESCRIPTION:Hier geht es zum Flyer : ChakraB_1 ChakraB_2 \n  \n  \nBei Interesse\, Anmeldung anfordern unter \nInfo@atemtherapie-essen.de \n  \n
URL:https://www.atemtherapie-essen.de/workshop/chakra-breathing/
CATEGORIES:Atem,Chakra,Gruppen,Meditation,Workshop
END:VEVENT
END:VCALENDAR