BEGIN:VCALENDAR
VERSION:2.0
PRODID:-//Atemtherapie Essen - Sabine Linneweber - ECPv5.0.2//NONSGML v1.0//EN
CALSCALE:GREGORIAN
METHOD:PUBLISH
X-WR-CALNAME:Atemtherapie Essen - Sabine Linneweber
X-ORIGINAL-URL:https://www.atemtherapie-essen.de
X-WR-CALDESC:Veranstaltungen im Atemtherapie Essen - Sabine Linneweber
BEGIN:VTIMEZONE
TZID:UTC
BEGIN:STANDARD
TZOFFSETFROM:+0000
TZOFFSETTO:+0000
TZNAME:UTC
DTSTART:20260101T000000
END:STANDARD
END:VTIMEZONE
BEGIN:VEVENT
DTSTART;TZID=UTC:20260503T143000
DTEND;TZID=UTC:20260503T180000
DTSTAMP:20260420T132510
CREATED:20260112T105817Z
LAST-MODIFIED:20260112T105845Z
UID:1338-1777818600-1777831200@www.atemtherapie-essen.de
SUMMARY:Calma Frauengruppe
DESCRIPTION:Atemgruppe für Frauen\nCalma\, ist meine erste Frauengruppe. Wir trafen uns zum ersten Mal 2007 und sind bis heute in fast der Gründungsformation zusammen. Wir atmen\, meditieren\, tanzen und gehen in tiefe Verbindung. \nWenn du Teil einer festen\, verbindlichen Frauengruppe werden möchtest\, melde dich gerne bei mir. \n  \n  \n  \n
URL:https://www.atemtherapie-essen.de/workshop/calma-17-2-2-2-2-2-2-3-3-2-3-2-2-2-3-3-2-2-2-2-2-2-2-2-2/
CATEGORIES:Achtsamkeit,Frauen,Gruppen,Meditation,Workshop
ATTACH;FMTTYPE=image/jpeg:https://www.atemtherapie-essen.de/wp-content/uploads/2013/01/atemtherapie-essen-gruppe-calma-1-e1486824692573.jpg
END:VEVENT
END:VCALENDAR