BEGIN:VCALENDAR
VERSION:2.0
PRODID:-//Atemtherapie Essen - Sabine Linneweber - ECPv5.0.2//NONSGML v1.0//EN
CALSCALE:GREGORIAN
METHOD:PUBLISH
X-WR-CALNAME:Atemtherapie Essen - Sabine Linneweber
X-ORIGINAL-URL:https://www.atemtherapie-essen.de
X-WR-CALDESC:Veranstaltungen im Atemtherapie Essen - Sabine Linneweber
BEGIN:VTIMEZONE
TZID:UTC
BEGIN:STANDARD
TZOFFSETFROM:+0000
TZOFFSETTO:+0000
TZNAME:UTC
DTSTART:20200101T000000
END:STANDARD
END:VTIMEZONE
BEGIN:VEVENT
DTSTART;TZID=UTC:20200426T143000
DTEND;TZID=UTC:20200428T180000
DTSTAMP:20260421T032549
CREATED:20200119T140843Z
LAST-MODIFIED:20200119T140843Z
UID:825-1587911400-1588096800@www.atemtherapie-essen.de
SUMMARY:Calma
DESCRIPTION:Atemgruppe für Frauen\nAtemübungen\, Meditationen\, Bewusstseinsübungen helfen die innere Balance zu finden. \nDaneben steht der persönliche Austausch\, berühren und berührt werden\, das Bewusst machen der eigenen Persönlichkeit und deren Entwicklung. \n  \n  \n
URL:https://www.atemtherapie-essen.de/workshop/calma-17-2-2-2-2-2-2-2-3-3-2-2/
CATEGORIES:Achtsamkeit,Atem,Frauen,Gruppen,Meditation,Workshop
ATTACH;FMTTYPE=image/jpeg:https://www.atemtherapie-essen.de/wp-content/uploads/2013/01/atemtherapie-essen-gruppe-calma-1-e1486824692573.jpg
END:VEVENT
END:VCALENDAR