BEGIN:VCALENDAR
VERSION:2.0
PRODID:-//Atemtherapie Essen - Sabine Linneweber - ECPv5.0.2//NONSGML v1.0//EN
CALSCALE:GREGORIAN
METHOD:PUBLISH
X-WR-CALNAME:Atemtherapie Essen - Sabine Linneweber
X-ORIGINAL-URL:https://www.atemtherapie-essen.de
X-WR-CALDESC:Veranstaltungen im Atemtherapie Essen - Sabine Linneweber
BEGIN:VTIMEZONE
TZID:Europe/Berlin
BEGIN:DAYLIGHT
TZOFFSETFROM:+0100
TZOFFSETTO:+0200
TZNAME:CEST
DTSTART:20150329T010000
END:DAYLIGHT
BEGIN:STANDARD
TZOFFSETFROM:+0200
TZOFFSETTO:+0100
TZNAME:CET
DTSTART:20151025T010000
END:STANDARD
END:VTIMEZONE
BEGIN:VEVENT
DTSTART;TZID=Europe/Berlin:20151023T180000
DTEND;TZID=Europe/Berlin:20151023T201500
DTSTAMP:20260421T134636
CREATED:20150329T090817Z
LAST-MODIFIED:20150329T090817Z
UID:488-1445623200-1445631300@www.atemtherapie-essen.de
SUMMARY:AtemRaum
DESCRIPTION:AtemRaum \nRaum zum Durchatem\, die Anspannungen der vergangenen (Arbeits)Woche loslassen\, Entspannung für Körper und Geist finden\, dem Hamsterrad der Gedanken entkommen. \nDer AtemRaum findet einmal im Monat im Essener Stadtwald statt. Atemübungen und Meditationen sowie Entspannungsübungen werden von musikalischen Darbietungen unterstützt. Dazu werden wechselnde Künstler eingeladen die mit Klang\, Gesang und Musik die Seele berühren. \nJeder Abend ist in sich abgeschlossen und kann einzeln gebucht werden. Bitte bequeme Kleidung und eine Decke mitbringen. \nmehr…     Flyer AR \n
URL:https://www.atemtherapie-essen.de/workshop/atemraum-5/
LOCATION:Unbenannter Veranstaltungsort\, Trappenbergstraße 7\, Essen Stadtwald
END:VEVENT
END:VCALENDAR