BEGIN:VCALENDAR
VERSION:2.0
PRODID:-//Atemtherapie Essen - Sabine Linneweber - ECPv5.0.2//NONSGML v1.0//EN
CALSCALE:GREGORIAN
METHOD:PUBLISH
X-WR-CALNAME:Atemtherapie Essen - Sabine Linneweber
X-ORIGINAL-URL:https://www.atemtherapie-essen.de
X-WR-CALDESC:Veranstaltungen im Atemtherapie Essen - Sabine Linneweber
BEGIN:VTIMEZONE
TZID:UTC
BEGIN:STANDARD
TZOFFSETFROM:+0000
TZOFFSETTO:+0000
TZNAME:UTC
DTSTART:20170101T000000
END:STANDARD
END:VTIMEZONE
BEGIN:VEVENT
DTSTART;TZID=UTC:20171110T181500
DTEND;TZID=UTC:20171110T201500
DTSTAMP:20260421T084730
CREATED:20170204T100710Z
LAST-MODIFIED:20170204T100710Z
UID:576-1510337700-1510344900@www.atemtherapie-essen.de
SUMMARY:AtemRaum
DESCRIPTION:AtemRaum 2017 Thema ‚Selbstliebe‘\nRaum zum Durchatmen und Loslassen. Anspannungen der vergangenen (Arbeits)Woche loslassen\, Entspannung für Körper und Geist finden\, dem Hamsterrad der Gedanken entkommen. \nDer AtemRaum findet freitagabends im Essener Stadtwald statt. Atemübungen und Meditationen bringen Ruhe und Zentriertheit\, die eigene Gelassenheit und Ruhe wird wieder hergestellt. Im Atemkreis finden wir Verbundenheit\, Gleichwürdigkeit und Verständnis. \nIn diese Jahr steht das Thema ‚Selbstliebe‘ im Focus. Wenn wir beginnen\, uns wirklich zu lieben und anzunehmen\, so wie wir sind\, werden wir Glück und Frieden finden.  Selbstwert verändert unsere Ausstrahlung auf unsere Umwelt und wirkt somit positiv auf unsere Umwelt. Charlie Chaplin schrieb dazu folgendes Gedicht: http://https://www.atemtherapie-essen.de/wp-admin/post.php?post=156&action=edit \nIch freue mich auf alle neuen und bekannten Gesichter im AtemRaum. Wenn möglich\, meldet Euch an\, falls Du es mal nicht schaffst und spontan kommen möchtest\, bist du auch dann herzlich Willkommen. \nDie Jahreskarte  für alle 8 AtemRaum Veranstaltungen 2017 kostet 150 Euro (auch in  2018 gültig\, falls Du einen Abend verpasst) und ermöglicht dir den vergünstigten Preis für Wochenend- und Urlaubsseminare. Der Einzelpreis für den AtemRaum beträgt 25 Euro. \nIch freue mich schon jetzt auf die Verbindung mit Euch im AtemRaum! \n
URL:https://www.atemtherapie-essen.de/workshop/atemraum-20/
CATEGORIES:Achtsamkeit,Atem,Gruppen,Meditation,Workshop
ATTACH;FMTTYPE=image/png:https://www.atemtherapie-essen.de/wp-content/uploads/2017/02/atemraum-e1486825006777.png
END:VEVENT
END:VCALENDAR