BEGIN:VCALENDAR
VERSION:2.0
PRODID:-//Atemtherapie Essen - Sabine Linneweber - ECPv5.0.2//NONSGML v1.0//EN
CALSCALE:GREGORIAN
METHOD:PUBLISH
X-WR-CALNAME:Atemtherapie Essen - Sabine Linneweber
X-ORIGINAL-URL:https://www.atemtherapie-essen.de
X-WR-CALDESC:Veranstaltungen im Atemtherapie Essen - Sabine Linneweber
BEGIN:VTIMEZONE
TZID:Europe/Berlin
BEGIN:DAYLIGHT
TZOFFSETFROM:+0100
TZOFFSETTO:+0200
TZNAME:CEST
DTSTART:20140330T010000
END:DAYLIGHT
BEGIN:STANDARD
TZOFFSETFROM:+0200
TZOFFSETTO:+0100
TZNAME:CET
DTSTART:20141026T010000
END:STANDARD
END:VTIMEZONE
BEGIN:VEVENT
DTSTART;TZID=Europe/Berlin:20140920T153000
DTEND;TZID=Europe/Berlin:20140920T170000
DTSTAMP:20260421T170719
CREATED:20140823T103834Z
LAST-MODIFIED:20140823T103834Z
UID:432-1411227000-1411232400@www.atemtherapie-essen.de
SUMMARY:Atem ist Leben Workshop bei den Essener Gesundheitstagen 2014
DESCRIPTION:Atem ist Leben – Leben ist Atem \nSchnupperworkshop zum Kennenlernen \nMit diesem Workshop möchte ich Sie herzlich einladen\, eine Atempause einzulegen und für eine gute Stunde nach Innen zu schauen und Kraft zu tanken. \n  \nWenn wir die Aufmerksakeit auf den Atem richten\, kann eine Stille eintreten\, die uns hilft bei uns selbst anzukommen und die eigene Wahrheit aufzuspüren. Der bewusste Atem kann darüber hinaus tiefe Entspannungsprozesse einleiten und somit Körper und Geist in Einklang bringen. \nAnmeldung: Gleichstellungsstelle Essen\, Christiane Volkmer 0201-8888952 \n  \n  \n  \n
URL:https://www.atemtherapie-essen.de/workshop/atem-ist-leben-workshop-bei-den-essener-gesundheitstagen-2014/
ATTACH;FMTTYPE=image/jpeg:https://www.atemtherapie-essen.de/wp-content/uploads/2014/08/bildfrauengesundheitstage-2014-e1408797804180.jpg
END:VEVENT
END:VCALENDAR